BEGIN:VCALENDAR
VERSION:2.0
PRODID:-//Town of Bloomer - ECPv5.16.4//NONSGML v1.0//EN
CALSCALE:GREGORIAN
METHOD:PUBLISH
X-WR-CALNAME:Town of Bloomer
X-ORIGINAL-URL:https://townofbloomer.com
X-WR-CALDESC:Events for Town of Bloomer
REFRESH-INTERVAL;VALUE=DURATION:PT1H
X-Robots-Tag:noindex
X-PUBLISHED-TTL:PT1H
BEGIN:VTIMEZONE
TZID:America/Chicago
BEGIN:DAYLIGHT
TZOFFSETFROM:-0600
TZOFFSETTO:-0500
TZNAME:CDT
DTSTART:20220313T080000
END:DAYLIGHT
BEGIN:STANDARD
TZOFFSETFROM:-0500
TZOFFSETTO:-0600
TZNAME:CST
DTSTART:20221106T070000
END:STANDARD
END:VTIMEZONE
BEGIN:VEVENT
DTSTART;TZID=America/Chicago:20220608T190000
DTEND;TZID=America/Chicago:20220608T190000
DTSTAMP:20260424T162528
CREATED:20230219T223458Z
LAST-MODIFIED:20230219T224519Z
UID:440-1654714800-1654714800@townofbloomer.com
SUMMARY:Town Board Meeting - Date Change
DESCRIPTION:
URL:https://townofbloomer.com/event/town-board-meeting-2022-06-13/
CATEGORIES:Town Board
END:VEVENT
BEGIN:VEVENT
DTSTART;TZID=America/Chicago:20220613T190000
DTEND;TZID=America/Chicago:20220613T190000
DTSTAMP:20260424T162528
CREATED:20230219T224615Z
LAST-MODIFIED:20230219T224650Z
UID:494-1655146800-1655146800@townofbloomer.com
SUMMARY:Change of Date Town Board Meeting - Change to June 8\, 2022
DESCRIPTION:
URL:https://townofbloomer.com/event/change-of-date-town-board-meeting-change-to-june-8-2022/
CATEGORIES:Town Board
END:VEVENT
BEGIN:VEVENT
DTSTART;TZID=America/Chicago:20220622T190000
DTEND;TZID=America/Chicago:20220622T190000
DTSTAMP:20260424T162528
CREATED:20230219T224733Z
LAST-MODIFIED:20230219T224733Z
UID:496-1655924400-1655924400@townofbloomer.com
SUMMARY:Special Town Board Meeting
DESCRIPTION:Open and award road bids
URL:https://townofbloomer.com/event/special-town-board-meeting/
CATEGORIES:Town Board
END:VEVENT
END:VCALENDAR