BEGIN:VCALENDAR
VERSION:2.0
PRODID:-//Town of Bloomer - ECPv5.16.4//NONSGML v1.0//EN
CALSCALE:GREGORIAN
METHOD:PUBLISH
X-WR-CALNAME:Town of Bloomer
X-ORIGINAL-URL:https://townofbloomer.com
X-WR-CALDESC:Events for Town of Bloomer
REFRESH-INTERVAL;VALUE=DURATION:PT1H
X-Robots-Tag:noindex
X-PUBLISHED-TTL:PT1H
BEGIN:VTIMEZONE
TZID:America/Chicago
BEGIN:DAYLIGHT
TZOFFSETFROM:-0600
TZOFFSETTO:-0500
TZNAME:CDT
DTSTART:20240310T080000
END:DAYLIGHT
BEGIN:STANDARD
TZOFFSETFROM:-0500
TZOFFSETTO:-0600
TZNAME:CST
DTSTART:20241103T070000
END:STANDARD
END:VTIMEZONE
BEGIN:VEVENT
DTSTART;TZID=America/Chicago:20240501T183000
DTEND;TZID=America/Chicago:20240501T203000
DTSTAMP:20260422T142907
CREATED:20240116T015821Z
LAST-MODIFIED:20240116T015821Z
UID:1267-1714588200-1714595400@townofbloomer.com
SUMMARY:Board of Review
DESCRIPTION:
URL:https://townofbloomer.com/event/board-of-review-3/
CATEGORIES:Town Board
END:VEVENT
BEGIN:VEVENT
DTSTART;TZID=America/Chicago:20240508T190000
DTEND;TZID=America/Chicago:20240508T200000
DTSTAMP:20260422T142907
CREATED:20240419T023647Z
LAST-MODIFIED:20240419T023647Z
UID:1333-1715194800-1715198400@townofbloomer.com
SUMMARY:Town Board Meeting
DESCRIPTION:
URL:https://townofbloomer.com/event/town-board-meeting-2/
CATEGORIES:Meetings
END:VEVENT
BEGIN:VEVENT
DTSTART;TZID=America/Chicago:20240511T080000
DTEND;TZID=America/Chicago:20240511T080000
DTSTAMP:20260422T142907
CREATED:20231231T234024Z
LAST-MODIFIED:20231231T234024Z
UID:1226-1715414400-1715414400@townofbloomer.com
SUMMARY:Solid Waste Collection
DESCRIPTION:
URL:https://townofbloomer.com/event/solid-waste-collection-3/2024-05-11/
CATEGORIES:Solid Waste Collection
END:VEVENT
BEGIN:VEVENT
DTSTART;TZID=America/Chicago:20240525T080000
DTEND;TZID=America/Chicago:20240525T120000
DTSTAMP:20260422T142907
CREATED:20231231T234159Z
LAST-MODIFIED:20231231T234159Z
UID:1237-1716624000-1716638400@townofbloomer.com
SUMMARY:Solid Waste Collection
DESCRIPTION:
URL:https://townofbloomer.com/event/solid-waste-collection-4/2024-05-25/
CATEGORIES:Solid Waste Collection
END:VEVENT
BEGIN:VEVENT
DTSTART;TZID=America/Chicago:20240528T190000
DTEND;TZID=America/Chicago:20240528T190000
DTSTAMP:20260422T142907
CREATED:20240526T154757Z
LAST-MODIFIED:20240526T154757Z
UID:1361-1716922800-1716922800@townofbloomer.com
SUMMARY:Special Town Board Meeting
DESCRIPTION:Special Town Board Meeting 
URL:https://townofbloomer.com/event/special-town-board-meeting-5/
CATEGORIES:Town Board
END:VEVENT
END:VCALENDAR